BEGIN:VCALENDAR
VERSION:2.0
PRODID:ConsultVox
NAME:LEURS CHAMPS DU COEUR - Ciné-débat
X-WR-CALNAME:LEURS CHAMPS DU COEUR - Ciné-débat
BEGIN:VTIMEZONE
TZID:UTC
BEGIN:STANDARD
DTSTART:20250223T180000Z
TZOFFSETFROM:+0000
TZOFFSETTO:+0000
END:STANDARD
END:VTIMEZONE
BEGIN:VEVENT
UID:73qMhn42L33
DTSTAMP:20260421T103221Z
SUMMARY:LEURS CHAMPS DU COEUR - Ciné-débat
DESCRIPTION:Comment assurer une production alimentaire de qualité\, rémun
 ératrice pour ceux qui la produisent et accessible au plus grand nombre ?
  15 agriculteurs et agricultrices nous ouvrent leur coeur. Découvrez le v
 rai coût de notre alimentation.
LOCATION:150 Rue Jean Jaurès\, 60280 Margny-lès-Compiègne\, France
URL:https://www.alimenterre.org/leurs-champ-du-coeur-margny-les-compiegne-6
 0
DTSTART:20251120T180000Z
DTEND:20251120T210000Z
GEO:49.425247;2.8210854
END:VEVENT
END:VCALENDAR